BEGIN:VCALENDAR
BEGIN:VEVENT
DESCRIPTION:\nMore Information: https://tickets.foxtheatre.ca/websales/pages/TicketSearchCriteria.aspx?evtInfo=604080~3cc021f8-1c84-4d3e-b58d-8be52cd73055&\n\nMarch Break Screenings with pre-show screening of the award winninf short Foools.  \n\nNamed one of TIFF’s Canada’s Top Ten Films of 2025\n\nBased on acclaimed Canadian musician Kid Koala’s award-winning graphic novel of the same name, Space Cadet is a dialogue-free animated film that portrays the tender story of a young girl, Celeste, and the first-generation Guardianbot she loves.\n\nRobot always watched over Celeste, until she became a brilliant scientist and astronaut. When she embarks on an interstellar mission, Robot must confront loneliness and the aging of her system. In the vastness of space, Celeste faces great dangers. As she struggles to overcome these obstacles, memories of her childhood resurface, illuminating her path through the darkness.\n\nBeautifully animated by a fully Canadian team with 2D designs from Toronto-based animator and illustrator Lillian Chan and 3D modelling from Montreal’s Gilles Renault (How to Train Your Dragon), Space Cadet is a story for the whole family.
DTSTART:20260321T174500Z
DTEND:20260321T191100Z
LOCATION:Fox Theatre, 2236 Queen St. E, Toronto, ON, M4E1G2
SUMMARY:Space Cadet
UID:604080
DTSTAMP:20260421T035002Z
END:VEVENT
END:VCALENDAR
