BEGIN:VCALENDAR
BEGIN:VEVENT
DESCRIPTION:\nMore Information: https://tickets.foxtheatre.ca/websales/pages/TicketSearchCriteria.aspx?evtInfo=605018~3cc021f8-1c84-4d3e-b58d-8be52cd73055&\n\nTake a sharp turn into the unknown with this series featuring genre faves, cult classics, unsung gems and more.\nLong before “Fifty Shades of Grey” became a phenomenon, “Secretary” explored a BDSM romantic relationship and the power dynamic between an attorney and his secretary, shocking and fascinating many audiences.\n\nLee Holloway (Maggie Gyllenhaal), is the youngest daughter of a dysfunctional family. After a critical incident leads to her commitment in a mental hospital, she confidently reenters normal life. She finds a job ad for a “Secretary Wanted” and is hired by the awkward lawyer Mr. Grey (James Spader). Their strictly professional relationship quickly evolves into a powerful dynamic of intimacy, discipline, vulnerability, and control.\n\n“Secretary” received numerous award nominations and won several, with many accolades going to Maggie Gyllenhaal for her breakthrough performance.
DTSTART:20260321T013000Z
DTEND:20260321T032100Z
LOCATION:Fox Theatre, 2236 Queen St. E, Toronto, ON, M4E1G2
SUMMARY:Secretary
UID:605018
DTSTAMP:20260421T052713Z
END:VEVENT
END:VCALENDAR
