BEGIN:VCALENDAR
BEGIN:VEVENT
DESCRIPTION:\nMore Information: https://tickets.foxtheatre.ca/websales/pages/TicketSearchCriteria.aspx?evtInfo=605020~3cc021f8-1c84-4d3e-b58d-8be52cd73055&\n\nWinner of the Un Certain Regard Special Jury Prize at this year's Cannes Film Festival and Colombia's submission for the Oscars, "A Poet," directed by Simón Mesa Soto, skillfully blends wry, uncomfortable comedy with a keen insight into Colombia's contemporary social landscape.\n\nThe film follows middle-aged and erratic, Oscar is a failed writer who has given up on life. Unemployed and living with family, he wanders the streets of Medellín in a drunken stupor, lamenting the state of literature in his home country, where he has succumbed to the cliché of the tortured artist. However, the opportunity to mentor a young student offers a chance at redemption, if he doesn’t screw it up first.
DTSTART:20260313T190000Z
DTEND:20260313T210300Z
LOCATION:Fox Theatre, 2236 Queen St. E, Toronto, ON, M4E1G2
SUMMARY:A Poet
UID:605020
DTSTAMP:20260421T052725Z
END:VEVENT
END:VCALENDAR
