BEGIN:VCALENDAR
BEGIN:VEVENT
DESCRIPTION:\nMore Information: https://tickets.foxtheatre.ca/websales/pages/TicketSearchCriteria.aspx?evtInfo=605028~3cc021f8-1c84-4d3e-b58d-8be52cd73055&\n\nMaria Angeles (Carmen Maura), a 79-year-old Spanish woman, lives alone in Tangier, Morocco, and enjoys her daily routine. However, her life is turned upside down when her daughter arrives from Madrid to sell the apartment in which she has always lived. Determined to stay, she does everything she can to get her home and her belongings back and, unexpectedly, rediscovers love and sensuality.\n\n“Maura is as good as it gets … there is no doubt in my mind why it became an audience winner in Venice” - Pete Hammond, Deadline
DTSTART:20260324T191500Z
DTEND:20260324T211100Z
LOCATION:Fox Theatre, 2236 Queen St. E, Toronto, ON, M4E1G2
SUMMARY:Calle M&#225;laga
UID:605028
DTSTAMP:20260422T051604Z
END:VEVENT
END:VCALENDAR
